BEGIN:VCALENDAR
VERSION:2.0
PRODID:icalendar-ruby
CALSCALE:GREGORIAN
METHOD:PUBLISH
BEGIN:VEVENT
DTSTAMP:20260426T040000Z
UID:e0f080ae-5eb6-4fe1-bdb8-2a033ce70987
DTSTART;VALUE=DATE:20180717
DTEND;VALUE=DATE:20180717
DESCRIPTION:Westmoreland BMX
LOCATION:200 Park Road  Apollo PA 15613 USA
SUMMARY:Standard Single Single
URL:/site/bmx_races/361939
END:VEVENT
END:VCALENDAR
