BEGIN:VCALENDAR
VERSION:2.0
PRODID:icalendar-ruby
CALSCALE:GREGORIAN
METHOD:PUBLISH
BEGIN:VEVENT
DTSTAMP:20260425T103254Z
UID:8c51b6bb-635e-4ac0-b870-126dfe30f31b
DTSTART;VALUE=DATE:20130728
DTEND;VALUE=DATE:20130728
DESCRIPTION:Lincoln Park BMX
LOCATION:South L St & W. Lauridsen Blvd  Port Angeles WA 98362 USA
SUMMARY:State Race Double
URL:/site/bmx_races/36181
END:VEVENT
END:VCALENDAR
