BEGIN:VCALENDAR
VERSION:2.0
PRODID:icalendar-ruby
CALSCALE:GREGORIAN
METHOD:PUBLISH
BEGIN:VEVENT
DTSTAMP:20260425T024415Z
UID:b2abf234-82d9-487a-b781-48050dd80224
DTSTART;VALUE=DATE:20180216
DTEND;VALUE=DATE:20180216
DESCRIPTION:Cowtown BMX
LOCATION:447 Haltom Rd  Ft. Worth TX 76117 USA
SUMMARY:Standard Single Single
URL:/site/bmx_races/361802
END:VEVENT
END:VCALENDAR
