BEGIN:VCALENDAR
VERSION:2.0
PRODID:icalendar-ruby
CALSCALE:GREGORIAN
METHOD:PUBLISH
BEGIN:VEVENT
DTSTAMP:20260424T220314Z
UID:cce659ac-8a64-48ee-b3af-a9cc7e25563a
DTSTART;VALUE=DATE:20180517
DTEND;VALUE=DATE:20180517
DESCRIPTION:Kamloops BMX
LOCATION:200  1550 Ord Rd   Kamloops BC V2B1N3 CAN
SUMMARY:Standard Single Single
URL:/site/bmx_races/361472
END:VEVENT
END:VCALENDAR
