BEGIN:VCALENDAR
VERSION:2.0
PRODID:icalendar-ruby
CALSCALE:GREGORIAN
METHOD:PUBLISH
BEGIN:VEVENT
DTSTAMP:20260424T131236Z
UID:db811350-7951-48c5-a346-d40a6616461c
DTSTART;VALUE=DATE:20180422
DTEND;VALUE=DATE:20180422
DESCRIPTION:Kamloops BMX
LOCATION:200  1550 Ord Rd   Kamloops BC V2B1N3 CAN
SUMMARY:Standard Single Single
URL:/site/bmx_races/361463
END:VEVENT
END:VCALENDAR
