BEGIN:VCALENDAR
VERSION:2.0
PRODID:icalendar-ruby
CALSCALE:GREGORIAN
METHOD:PUBLISH
BEGIN:VEVENT
DTSTAMP:20260425T142312Z
UID:43cfcbb8-3d7d-4601-86b6-afa269fcf49d
DTSTART;VALUE=DATE:20180323
DTEND;VALUE=DATE:20180323
DESCRIPTION:Tampa BMX Raceway\, Inc.
LOCATION:17302 Dale Mabry Hwy North  Lutz FL 33548 USA
SUMMARY:Standard Single Single
URL:/site/bmx_races/361184
END:VEVENT
END:VCALENDAR
