BEGIN:VCALENDAR
VERSION:2.0
PRODID:icalendar-ruby
CALSCALE:GREGORIAN
METHOD:PUBLISH
BEGIN:VEVENT
DTSTAMP:20260425T125519Z
UID:537d0b1b-ce10-4e51-98ec-ed99f88daf85
DTSTART;VALUE=DATE:20181026
DTEND;VALUE=DATE:20181026
DESCRIPTION:Daytona BMX
LOCATION:1670 Strickland Range Rd  Holly Hill FL 32117 USA
SUMMARY:Standard Single Single
URL:/site/bmx_races/361001
END:VEVENT
END:VCALENDAR
