BEGIN:VCALENDAR
VERSION:2.0
PRODID:icalendar-ruby
CALSCALE:GREGORIAN
METHOD:PUBLISH
BEGIN:VEVENT
DTSTAMP:20260424T190057Z
UID:4f7a3003-26dc-4345-81b6-47fd9a2f9efb
DTSTART;VALUE=DATE:20180417
DTEND;VALUE=DATE:20180417
DESCRIPTION:Santa Clara PAL BMX
LOCATION:5401 Lafayette Street  Santa Clara CA 95051 USA
SUMMARY:Standard Single Single
URL:/site/bmx_races/360371
END:VEVENT
END:VCALENDAR
