BEGIN:VCALENDAR
VERSION:2.0
PRODID:icalendar-ruby
CALSCALE:GREGORIAN
METHOD:PUBLISH
BEGIN:VEVENT
DTSTAMP:20260424T091847Z
UID:f2affdcc-4671-44be-a71f-00e730f94abb
DTSTART;VALUE=DATE:20180919
DTEND;VALUE=DATE:20180919
DESCRIPTION:Nellis BMX
LOCATION:4949 E Cheyenne Ave  Las Vegas NV 89115 USA
SUMMARY:Standard Single Single
URL:/site/bmx_races/360301
END:VEVENT
END:VCALENDAR
