BEGIN:VCALENDAR
VERSION:2.0
PRODID:icalendar-ruby
CALSCALE:GREGORIAN
METHOD:PUBLISH
BEGIN:VEVENT
DTSTAMP:20260425T215214Z
UID:5197eeb4-70d2-4410-bf2c-78030e5bcc52
DTSTART;VALUE=DATE:20180901
DTEND;VALUE=DATE:20180901
DESCRIPTION:ORL BMX
LOCATION:4801 W Colonial Dr  Orlando FL 32808 USA
SUMMARY:Standard Single Single
URL:/site/bmx_races/360004
END:VEVENT
END:VCALENDAR
