BEGIN:VCALENDAR
VERSION:2.0
PRODID:icalendar-ruby
CALSCALE:GREGORIAN
METHOD:PUBLISH
BEGIN:VEVENT
DTSTAMP:20260425T021609Z
UID:f249ea47-b63e-42b1-9cca-63e4c13cbefa
DTSTART;VALUE=DATE:20180429
DTEND;VALUE=DATE:20180429
DESCRIPTION:Rockford BMX
LOCATION:4950 Safford Rd  Rockford IL 61101 USA
SUMMARY:Standard Single Single
URL:/site/bmx_races/358617
END:VEVENT
END:VCALENDAR
