BEGIN:VCALENDAR
VERSION:2.0
PRODID:icalendar-ruby
CALSCALE:GREGORIAN
METHOD:PUBLISH
BEGIN:VEVENT
DTSTAMP:20260424T220429Z
UID:0ced8eec-5177-4cad-8992-7ad691b48d94
DTSTART;VALUE=DATE:20180609
DTEND;VALUE=DATE:20180609
DESCRIPTION:Woodland BMX
LOCATION:880 Victory Hwy  West Greenwich RI 02817 USA
SUMMARY:Standard Single Single
URL:/site/bmx_races/358261
END:VEVENT
END:VCALENDAR
