BEGIN:VCALENDAR
VERSION:2.0
PRODID:icalendar-ruby
CALSCALE:GREGORIAN
METHOD:PUBLISH
BEGIN:VEVENT
DTSTAMP:20260425T215251Z
UID:e43bd46d-a826-424c-810b-3c1c83ef1a22
DTSTART;VALUE=DATE:20180812
DTEND;VALUE=DATE:20180812
DESCRIPTION:Cobb County BMX
LOCATION:3820 Macedonia Rd  Powder Springs GA 30127 USA
SUMMARY:Standard Single Single
URL:/site/bmx_races/357961
END:VEVENT
END:VCALENDAR
