BEGIN:VCALENDAR
VERSION:2.0
PRODID:icalendar-ruby
CALSCALE:GREGORIAN
METHOD:PUBLISH
BEGIN:VEVENT
DTSTAMP:20260424T203826Z
UID:908f98b7-af71-460d-b4f4-19b1c0fe065f
DTSTART;VALUE=DATE:20180708
DTEND;VALUE=DATE:20180708
DESCRIPTION:Noonday BMX
LOCATION:547 Shallowford Rd Ne  Marietta GA 30144 USA
SUMMARY:Standard Single Single
URL:/site/bmx_races/357877
END:VEVENT
END:VCALENDAR
