BEGIN:VCALENDAR
VERSION:2.0
PRODID:icalendar-ruby
CALSCALE:GREGORIAN
METHOD:PUBLISH
BEGIN:VEVENT
DTSTAMP:20260424T191726Z
UID:4bb1ffd4-4fc2-4941-829c-7ddd4d040a4b
DTSTART;VALUE=DATE:20180518
DTEND;VALUE=DATE:20180518
DESCRIPTION:Desoto BMX
LOCATION:Grimes Park 500 E. Centre Park Blvd Desoto TX 75115 USA
SUMMARY:Standard Single Single
URL:/site/bmx_races/357357
END:VEVENT
END:VCALENDAR
