BEGIN:VCALENDAR
VERSION:2.0
PRODID:icalendar-ruby
CALSCALE:GREGORIAN
METHOD:PUBLISH
BEGIN:VEVENT
DTSTAMP:20260425T125438Z
UID:c1375a69-4385-45b1-8e50-bcee2d42a6a6
DTSTART;VALUE=DATE:20180407
DTEND;VALUE=DATE:20180407
DESCRIPTION:Steel Wheels Indoor BMX
LOCATION:709 N Hobart Rd  Hobart IN 46350 USA
SUMMARY:Standard Double Double
URL:/site/bmx_races/356618
END:VEVENT
END:VCALENDAR
