BEGIN:VCALENDAR
VERSION:2.0
PRODID:icalendar-ruby
CALSCALE:GREGORIAN
METHOD:PUBLISH
BEGIN:VEVENT
DTSTAMP:20260424T154514Z
UID:5cd3b507-0a9c-49bf-a60f-8cfab74359f0
DTSTART;VALUE=DATE:20181124
DTEND;VALUE=DATE:20181124
DESCRIPTION:Steel Wheels Indoor BMX
LOCATION:709 N Hobart Rd  Hobart IN 46350 USA
SUMMARY:Standard Single Single
URL:/site/bmx_races/356495
END:VEVENT
END:VCALENDAR
