BEGIN:VCALENDAR
VERSION:2.0
PRODID:icalendar-ruby
CALSCALE:GREGORIAN
METHOD:PUBLISH
BEGIN:VEVENT
DTSTAMP:20260425T025638Z
UID:06869e5c-c9c5-47b1-982f-f7b5340852c7
DTSTART;VALUE=DATE:20180424
DTEND;VALUE=DATE:20180424
DESCRIPTION:Columbia Basin BMX
LOCATION:2002 Snyder St  Richland WA 99354 USA
SUMMARY:Standard Single Single
URL:/site/bmx_races/356194
END:VEVENT
END:VCALENDAR
