BEGIN:VCALENDAR
VERSION:2.0
PRODID:icalendar-ruby
CALSCALE:GREGORIAN
METHOD:PUBLISH
BEGIN:VEVENT
DTSTAMP:20260424T194722Z
UID:2a31967f-04ca-4462-939e-0a00824361e9
DTSTART;VALUE=DATE:20170902
DTEND;VALUE=DATE:20170902
DESCRIPTION:Falcon BMX
LOCATION:Falcon Field 200 Westfield Road Meriden CT 06450 USA
SUMMARY:Standard Single Single
URL:/site/bmx_races/355593
END:VEVENT
END:VCALENDAR
