BEGIN:VCALENDAR
VERSION:2.0
PRODID:icalendar-ruby
CALSCALE:GREGORIAN
METHOD:PUBLISH
BEGIN:VEVENT
DTSTAMP:20260425T105609Z
UID:c23c44bb-487c-49c9-889d-1969f395fa9f
DTSTART;VALUE=DATE:20180307
DTEND;VALUE=DATE:20180307
DESCRIPTION:Hanford BMX
LOCATION:501 S Brown St  Hanford CA 93230 USA
SUMMARY:Standard Single Single
URL:/site/bmx_races/355549
END:VEVENT
END:VCALENDAR
