BEGIN:VCALENDAR
VERSION:2.0
PRODID:icalendar-ruby
CALSCALE:GREGORIAN
METHOD:PUBLISH
BEGIN:VEVENT
DTSTAMP:20260424T092001Z
UID:8f5d94a3-c9d6-445f-90c1-06e614b5f20c
DTSTART;VALUE=DATE:20170919
DTEND;VALUE=DATE:20170919
DESCRIPTION:Chula Vista BMX
LOCATION:2800 Olympic Parkway  Chula Vista CA 91915 USA
SUMMARY:Standard Single Single
URL:/site/bmx_races/355325
END:VEVENT
END:VCALENDAR
