BEGIN:VCALENDAR
VERSION:2.0
PRODID:icalendar-ruby
CALSCALE:GREGORIAN
METHOD:PUBLISH
BEGIN:VEVENT
DTSTAMP:20260424T091839Z
UID:ced76aaa-1d14-482f-a6b4-116c7bb2d318
DTSTART;VALUE=DATE:20170908
DTEND;VALUE=DATE:20170908
DESCRIPTION:Cobb County BMX
LOCATION:3820 Macedonia Rd  Powder Springs GA 30127 USA
SUMMARY:Standard Single Single
URL:/site/bmx_races/354963
END:VEVENT
END:VCALENDAR
