BEGIN:VCALENDAR
VERSION:2.0
PRODID:icalendar-ruby
CALSCALE:GREGORIAN
METHOD:PUBLISH
BEGIN:VEVENT
DTSTAMP:20260425T201708Z
UID:f6182d75-6677-4d52-aa13-f4196a0fb815
DTSTART;VALUE=DATE:20170915
DTEND;VALUE=DATE:20170915
DESCRIPTION:Detweiller BMX
LOCATION:8001 N Galena Rd  Peoria IL 61615 USA
SUMMARY:Standard Single Single
URL:/site/bmx_races/354843
END:VEVENT
END:VCALENDAR
