BEGIN:VCALENDAR
VERSION:2.0
PRODID:icalendar-ruby
CALSCALE:GREGORIAN
METHOD:PUBLISH
BEGIN:VEVENT
DTSTAMP:20260424T154642Z
UID:db93b8e1-ee21-47e2-b359-f19785cea79a
DTSTART;VALUE=DATE:20170717
DTEND;VALUE=DATE:20170717
DESCRIPTION:Burdette Park BMX
LOCATION:5821 Nurrenbern Rd  Evansville IN 47712 USA
SUMMARY:Standard Single Single
URL:/site/bmx_races/354444
END:VEVENT
END:VCALENDAR
