BEGIN:VCALENDAR
VERSION:2.0
PRODID:icalendar-ruby
CALSCALE:GREGORIAN
METHOD:PUBLISH
BEGIN:VEVENT
DTSTAMP:20260425T142051Z
UID:5b668459-ac3c-43c7-95ee-860618021319
DTSTART;VALUE=DATE:20170624
DTEND;VALUE=DATE:20170624
DESCRIPTION:Whittier Narrows BMX
LOCATION:1601 N Rosemead Blvd  South El Monte CA 91733 USA
SUMMARY:Race For Life Single
URL:/site/bmx_races/353848
END:VEVENT
END:VCALENDAR
