BEGIN:VCALENDAR
VERSION:2.0
PRODID:icalendar-ruby
CALSCALE:GREGORIAN
METHOD:PUBLISH
BEGIN:VEVENT
DTSTAMP:20260425T184833Z
UID:fb5be072-12a5-4773-8f70-9222c8d34c8e
DTSTART;VALUE=DATE:20170623
DTEND;VALUE=DATE:20170623
DESCRIPTION:Kelowna BMX
LOCATION:645 Dodd Rd  Kelowna BC V1X5H1 CAN
SUMMARY:Standard Single Single
URL:/site/bmx_races/353815
END:VEVENT
END:VCALENDAR
