BEGIN:VCALENDAR
VERSION:2.0
PRODID:icalendar-ruby
CALSCALE:GREGORIAN
METHOD:PUBLISH
BEGIN:VEVENT
DTSTAMP:20260424T190115Z
UID:3104e70a-4a64-4073-97ab-b0e22f39ffdf
DTSTART;VALUE=DATE:20170728
DTEND;VALUE=DATE:20170728
DESCRIPTION:Cherry Hill Park BMX
LOCATION:1727 N 15th St  Coeur D`Alene ID 83814 USA
SUMMARY:Race For Life Double Double
URL:/site/bmx_races/353750
END:VEVENT
END:VCALENDAR
