BEGIN:VCALENDAR
VERSION:2.0
PRODID:icalendar-ruby
CALSCALE:GREGORIAN
METHOD:PUBLISH
BEGIN:VEVENT
DTSTAMP:20260424T115230Z
UID:36c40369-4905-4540-92ca-b02201cabbc0
DTSTART;VALUE=DATE:20170524
DTEND;VALUE=DATE:20170524
DESCRIPTION:Kelowna BMX
LOCATION:645 Dodd Rd  Kelowna BC V1X5H1 CAN
SUMMARY:Race For Life Double Double
URL:/site/bmx_races/353616
END:VEVENT
END:VCALENDAR
