BEGIN:VCALENDAR
VERSION:2.0
PRODID:icalendar-ruby
CALSCALE:GREGORIAN
METHOD:PUBLISH
BEGIN:VEVENT
DTSTAMP:20260425T171914Z
UID:6c5ed4fd-3b17-416a-8f01-c93785480478
DTSTART;VALUE=DATE:20170630
DTEND;VALUE=DATE:20170630
DESCRIPTION:WALLA WALLA BMX
LOCATION:Fort Walla Walla Park   1898 Dalles Military Rd Walla Walla WA 993
 62 USA
SUMMARY:Olympic Single
URL:/site/bmx_races/353456
END:VEVENT
END:VCALENDAR
