BEGIN:VCALENDAR
VERSION:2.0
PRODID:icalendar-ruby
CALSCALE:GREGORIAN
METHOD:PUBLISH
BEGIN:VEVENT
DTSTAMP:20260426T020326Z
UID:6475ac41-9850-4afe-9b6d-3f643fb54d60
DTSTART;VALUE=DATE:20170616
DTEND;VALUE=DATE:20170616
DESCRIPTION:Gretna BMX Raceway
LOCATION:800 Gretna Blvd  Gretna LA 70053 USA
SUMMARY:Standard Single Single
URL:/site/bmx_races/353271
END:VEVENT
END:VCALENDAR
