BEGIN:VCALENDAR
VERSION:2.0
PRODID:icalendar-ruby
CALSCALE:GREGORIAN
METHOD:PUBLISH
BEGIN:VEVENT
DTSTAMP:20260424T154524Z
UID:b32844d8-fe8e-498b-866c-664ee37c43a4
DTSTART;VALUE=DATE:20170707
DTEND;VALUE=DATE:20170707
DESCRIPTION:Greater Victoria BMX
LOCATION:1767 Island Hwy  Victoria BC V9B 1J1 CAN
SUMMARY:Standard Single Single
URL:/site/bmx_races/353123
END:VEVENT
END:VCALENDAR
