BEGIN:VCALENDAR
VERSION:2.0
PRODID:icalendar-ruby
CALSCALE:GREGORIAN
METHOD:PUBLISH
BEGIN:VEVENT
DTSTAMP:20260425T230812Z
UID:55ea3c11-a443-4d3a-ac51-bd91cbb50fe1
DTSTART;VALUE=DATE:20170801
DTEND;VALUE=DATE:20170801
DESCRIPTION:Hampton BMX
LOCATION:901 E Littleback River Rd  Hampton VA 23669 USA
SUMMARY:Standard Single Single
URL:/site/bmx_races/353020
END:VEVENT
END:VCALENDAR
