BEGIN:VCALENDAR
VERSION:2.0
PRODID:icalendar-ruby
CALSCALE:GREGORIAN
METHOD:PUBLISH
BEGIN:VEVENT
DTSTAMP:20260426T034700Z
UID:a9ca8a4c-e6af-4dd5-a2f1-296c8e459b50
DTSTART;VALUE=DATE:20170601
DTEND;VALUE=DATE:20170601
DESCRIPTION:Ed Fountain Park BMX Raceway
LOCATION:1400 N Decatur Blvd  Las Vegas NV 89108 USA
SUMMARY:Standard Single Single
URL:/site/bmx_races/352697
END:VEVENT
END:VCALENDAR
