BEGIN:VCALENDAR
VERSION:2.0
PRODID:icalendar-ruby
CALSCALE:GREGORIAN
METHOD:PUBLISH
BEGIN:VEVENT
DTSTAMP:20260425T011614Z
UID:3574aa6f-aa3d-420c-9d9c-fd5f3bc466f0
DTSTART;VALUE=DATE:20170515
DTEND;VALUE=DATE:20170515
DESCRIPTION:Kamloops BMX
LOCATION:200  1550 Ord Rd   Kamloops BC V2B1N3 CAN
SUMMARY:Standard Single Single
URL:/site/bmx_races/352345
END:VEVENT
END:VCALENDAR
