BEGIN:VCALENDAR
VERSION:2.0
PRODID:icalendar-ruby
CALSCALE:GREGORIAN
METHOD:PUBLISH
BEGIN:VEVENT
DTSTAMP:20260425T131139Z
UID:7ea63f4e-12a7-4098-9bb1-5f94907526ea
DTSTART;VALUE=DATE:20170528
DTEND;VALUE=DATE:20170528
DESCRIPTION:Revolution Bike Park
LOCATION:400 Mundis Race Rd  York PA 17406 USA
SUMMARY:Standard Single Single
URL:/site/bmx_races/352322
END:VEVENT
END:VCALENDAR
