BEGIN:VCALENDAR
VERSION:2.0
PRODID:icalendar-ruby
CALSCALE:GREGORIAN
METHOD:PUBLISH
BEGIN:VEVENT
DTSTAMP:20260424T115713Z
UID:81fbaaaf-35ec-49de-b2ae-51a3a16f4127
DTSTART;VALUE=DATE:20170607
DTEND;VALUE=DATE:20170607
DESCRIPTION:North Shore BMX
LOCATION:1301 Lillooet Road  North Vancouver BC V7J 3T7 CAN
SUMMARY:Race For Life Single
URL:/site/bmx_races/352113
END:VEVENT
END:VCALENDAR
