BEGIN:VCALENDAR
VERSION:2.0
PRODID:icalendar-ruby
CALSCALE:GREGORIAN
METHOD:PUBLISH
BEGIN:VEVENT
DTSTAMP:20260424T154629Z
UID:33d03a8a-42a7-4ae0-ac0a-14cdbe412c50
DTSTART;VALUE=DATE:20170615
DTEND;VALUE=DATE:20170615
DESCRIPTION:Westerville BMX
LOCATION:535 Park Meadow Road  Westerville OH 43081 USA
SUMMARY:Standard Single Single
URL:/site/bmx_races/351944
END:VEVENT
END:VCALENDAR
