BEGIN:VCALENDAR
VERSION:2.0
PRODID:icalendar-ruby
CALSCALE:GREGORIAN
METHOD:PUBLISH
BEGIN:VEVENT
DTSTAMP:20260425T011600Z
UID:a6e0bedb-afa0-4351-8330-bdce420ba566
DTSTART;VALUE=DATE:20171014
DTEND;VALUE=DATE:20171014
DESCRIPTION:Kingston Point BMX
LOCATION:4 Delaware Ave  Kingston NY 12401 USA
SUMMARY:Earned Double
URL:/site/bmx_races/351939
END:VEVENT
END:VCALENDAR
