BEGIN:VCALENDAR
VERSION:2.0
PRODID:icalendar-ruby
CALSCALE:GREGORIAN
METHOD:PUBLISH
BEGIN:VEVENT
DTSTAMP:20260425T011558Z
UID:c827ca36-a477-4562-a07d-dd6b88ddbbc3
DTSTART;VALUE=DATE:20170514
DTEND;VALUE=DATE:20170514
DESCRIPTION:Yucca Valley BMX
LOCATION:6989 Sage Ave  Yucca Valley CA 92234 USA
SUMMARY:Standard Single Single
URL:/site/bmx_races/351931
END:VEVENT
END:VCALENDAR
