BEGIN:VCALENDAR
VERSION:2.0
PRODID:icalendar-ruby
CALSCALE:GREGORIAN
METHOD:PUBLISH
BEGIN:VEVENT
DTSTAMP:20260424T201420Z
UID:05ece7e5-435a-4c4f-960f-1b132eb289cd
DTSTART;VALUE=DATE:20170427
DTEND;VALUE=DATE:20170427
DESCRIPTION:Ed Fountain Park BMX Raceway
LOCATION:1400 N Decatur Blvd  Las Vegas NV 89108 USA
SUMMARY:Standard Single Single
URL:/site/bmx_races/351794
END:VEVENT
END:VCALENDAR
