BEGIN:VCALENDAR
VERSION:2.0
PRODID:icalendar-ruby
CALSCALE:GREGORIAN
METHOD:PUBLISH
BEGIN:VEVENT
DTSTAMP:20260425T131129Z
UID:964a9c52-e9f7-4573-b4eb-05477795d30a
DTSTART;VALUE=DATE:20170815
DTEND;VALUE=DATE:20170815
DESCRIPTION:Whistler BMX
LOCATION:Bayly Park   1015 Jane Lakes Rd. Whistler BC V0N 1B1 CAN
SUMMARY:Standard Single Single
URL:/site/bmx_races/351191
END:VEVENT
END:VCALENDAR
