BEGIN:VCALENDAR
VERSION:2.0
PRODID:icalendar-ruby
CALSCALE:GREGORIAN
METHOD:PUBLISH
BEGIN:VEVENT
DTSTAMP:20260424T201231Z
UID:ca12c62e-5e1e-40be-96bf-be39a4f9fadc
DTSTART;VALUE=DATE:20170704
DTEND;VALUE=DATE:20170704
DESCRIPTION:Whistler BMX
LOCATION:Bayly Park   1015 Jane Lakes Rd. Whistler BC V0N 1B1 CAN
SUMMARY:Standard Single Single
URL:/site/bmx_races/351185
END:VEVENT
END:VCALENDAR
