BEGIN:VCALENDAR
VERSION:2.0
PRODID:icalendar-ruby
CALSCALE:GREGORIAN
METHOD:PUBLISH
BEGIN:VEVENT
DTSTAMP:20260424T160817Z
UID:a0972fd0-8590-4804-8afd-b335bec0ac6e
DTSTART;VALUE=DATE:20171104
DTEND;VALUE=DATE:20171104
DESCRIPTION:Oldsmar BMX Supercross
LOCATION:Oldsmar Sports Complex 3120 Tampa Road Oldsmar FL 34677 USA
SUMMARY:Standard Single Single
URL:/site/bmx_races/350917
END:VEVENT
END:VCALENDAR
