BEGIN:VCALENDAR
VERSION:2.0
PRODID:icalendar-ruby
CALSCALE:GREGORIAN
METHOD:PUBLISH
BEGIN:VEVENT
DTSTAMP:20260425T161032Z
UID:9b1f780c-eec8-46e6-ab0e-ce6b72fbb99b
DTSTART;VALUE=DATE:20171201
DTEND;VALUE=DATE:20171201
DESCRIPTION:Rock Hill BMX Supercross Track
LOCATION:1307 Riverwalk Parkway  Rock Hill SC 29730 USA
SUMMARY:Standard Single Single
URL:/site/bmx_races/350524
END:VEVENT
END:VCALENDAR
