BEGIN:VCALENDAR
VERSION:2.0
PRODID:icalendar-ruby
CALSCALE:GREGORIAN
METHOD:PUBLISH
BEGIN:VEVENT
DTSTAMP:20260424T190218Z
UID:d51e1a2b-94b7-4bae-ae5e-c8230a655eac
DTSTART;VALUE=DATE:20170715
DTEND;VALUE=DATE:20170715
DESCRIPTION:Columbia River BMX
LOCATION:475 South 18th Street  Saint Helens OR 97051 USA
SUMMARY:Standard Single Single
URL:/site/bmx_races/350294
END:VEVENT
END:VCALENDAR
