BEGIN:VCALENDAR
VERSION:2.0
PRODID:icalendar-ruby
CALSCALE:GREGORIAN
METHOD:PUBLISH
BEGIN:VEVENT
DTSTAMP:20260425T142008Z
UID:b06aaeb7-fa42-4019-bb73-f8fd4923a949
DTSTART;VALUE=DATE:20170813
DTEND;VALUE=DATE:20170813
DESCRIPTION:South Towns BMX
LOCATION:2982 Lakeview Rd  Hamburg NY 14075 USA
SUMMARY:Standard Double Double
URL:/site/bmx_races/350031
END:VEVENT
END:VCALENDAR
