BEGIN:VCALENDAR
VERSION:2.0
PRODID:icalendar-ruby
CALSCALE:GREGORIAN
METHOD:PUBLISH
BEGIN:VEVENT
DTSTAMP:20260424T104317Z
UID:c1b353fb-6ec5-41f6-93d7-a62093827c81
DTSTART;VALUE=DATE:20170724
DTEND;VALUE=DATE:20170724
DESCRIPTION:Bellflower BMX
LOCATION:9030 Somerset Blvd  Bellflower CA 90706 USA
SUMMARY:Standard Single Single
URL:/site/bmx_races/349993
END:VEVENT
END:VCALENDAR
