BEGIN:VCALENDAR
VERSION:2.0
PRODID:icalendar-ruby
CALSCALE:GREGORIAN
METHOD:PUBLISH
BEGIN:VEVENT
DTSTAMP:20260424T233937Z
UID:517bd07d-50b3-4b3d-9dce-e1ea4a80d046
DTSTART;VALUE=DATE:20170703
DTEND;VALUE=DATE:20170703
DESCRIPTION:Bellflower BMX
LOCATION:9030 Somerset Blvd  Bellflower CA 90706 USA
SUMMARY:Standard Single Single
URL:/site/bmx_races/349978
END:VEVENT
END:VCALENDAR
