BEGIN:VCALENDAR
VERSION:2.0
PRODID:icalendar-ruby
CALSCALE:GREGORIAN
METHOD:PUBLISH
BEGIN:VEVENT
DTSTAMP:20260424T172147Z
UID:9c101ace-588e-4f63-8a0b-b6a16d61644c
DTSTART;VALUE=DATE:20170604
DTEND;VALUE=DATE:20170604
DESCRIPTION:CR BMX
LOCATION:1600 Cedar Bend Lane Sw  Ely IA 52227 USA
SUMMARY:Olympic Single
URL:/site/bmx_races/349726
END:VEVENT
END:VCALENDAR
