BEGIN:VCALENDAR
VERSION:2.0
PRODID:icalendar-ruby
CALSCALE:GREGORIAN
METHOD:PUBLISH
BEGIN:VEVENT
DTSTAMP:20260424T090133Z
UID:9472dc1f-d999-498e-a4f0-010f7649f2c8
DTSTART;VALUE=DATE:20170723
DTEND;VALUE=DATE:20170723
DESCRIPTION:Waukegan BMX
LOCATION:2785 W Yorkhouse Rd  Waukegan IL 60085 USA
SUMMARY:Race For Life Single
URL:/site/bmx_races/349724
END:VEVENT
END:VCALENDAR
